BEGIN:VCALENDAR
VERSION:2.0
PRODID:-//My Calendar//mxm.dk//
BEGIN:VEVENT
SUMMARY:CLEARWATER-tributo a Creedence-
DTSTART:20260913T000000Z
DTEND:20260913T013000Z
DTSTAMP:20260421T193916Z
DESCRIPTION:
END:VEVENT
END:VCALENDAR
